BEGIN:VCALENDAR
VERSION:2.0
PRODID:-//Crossline - Gospel &amp; more - ECPv6.3.4//NONSGML v1.0//EN
CALSCALE:GREGORIAN
METHOD:PUBLISH
X-ORIGINAL-URL:http://www.crossline.jetzt
X-WR-CALDESC:Veranstaltungen für Crossline - Gospel &amp; more
REFRESH-INTERVAL;VALUE=DURATION:PT1H
X-Robots-Tag:noindex
X-PUBLISHED-TTL:PT1H
BEGIN:VTIMEZONE
TZID:UTC
BEGIN:STANDARD
TZOFFSETFROM:+0000
TZOFFSETTO:+0000
TZNAME:UTC
DTSTART:20260101T000000
END:STANDARD
END:VTIMEZONE
BEGIN:VEVENT
DTSTART;TZID=UTC:20260522T190000
DTEND;TZID=UTC:20260522T190000
DTSTAMP:20260420T123842
CREATED:20260418T143631Z
LAST-MODIFIED:20260418T150358Z
UID:738-1779476400-1779476400@www.crossline.jetzt
SUMMARY:Gospel Concert - Crossline & Gospelling Souls
DESCRIPTION:
URL:http://www.crossline.jetzt/event/weihnachtskonzert-2/
LOCATION:St. Jürgen-Kirche\, Am Markt\, Heide\, 25746\, Deutschland
END:VEVENT
END:VCALENDAR