BEGIN:VCALENDAR
VERSION:2.0
PRODID:-//Crossline - Gospel &amp; more - ECPv6.3.4//NONSGML v1.0//EN
CALSCALE:GREGORIAN
METHOD:PUBLISH
X-ORIGINAL-URL:http://www.crossline.jetzt
X-WR-CALDESC:Veranstaltungen für Crossline - Gospel &amp; more
REFRESH-INTERVAL;VALUE=DURATION:PT1H
X-Robots-Tag:noindex
X-PUBLISHED-TTL:PT1H
BEGIN:VTIMEZONE
TZID:UTC
BEGIN:STANDARD
TZOFFSETFROM:+0000
TZOFFSETTO:+0000
TZNAME:UTC
DTSTART:20260101T000000
END:STANDARD
END:VTIMEZONE
BEGIN:VEVENT
DTSTART;TZID=UTC:20260620T170000
DTEND;TZID=UTC:20260620T170000
DTSTAMP:20260420T155032
CREATED:20260418T145842Z
LAST-MODIFIED:20260418T150024Z
UID:750-1781974800-1781974800@www.crossline.jetzt
SUMMARY:Sommerkonzert der Chöre
DESCRIPTION:
URL:http://www.crossline.jetzt/event/weihnachtskonzert-3-3-2/
LOCATION:Maria-Magdalenen-Kirche\, Alter Kirchhof 17\, Marne
END:VEVENT
END:VCALENDAR